BEGIN:VCALENDAR
VERSION:2.0
PRODID:-//jEvents 2.0 for Joomla//EN
CALSCALE:GREGORIAN
METHOD:PUBLISH
BEGIN:VTIMEZONE
TZID:Europe/Berlin
BEGIN:STANDARD
DTSTART:20200213T200000
RDATE:20200329T030000
TZOFFSETFROM:+0200
TZOFFSETTO:+0100
TZNAME:Europe/Berlin CET
END:STANDARD
BEGIN:STANDARD
DTSTART:20201025T020000
RDATE:20210328T030000
TZOFFSETFROM:+0200
TZOFFSETTO:+0100
TZNAME:Europe/Berlin CET
END:STANDARD
BEGIN:STANDARD
DTSTART:20211031T020000
RDATE:20220327T030000
TZOFFSETFROM:+0200
TZOFFSETTO:+0100
TZNAME:Europe/Berlin CET
END:STANDARD
BEGIN:STANDARD
DTSTART:20221030T020000
RDATE:20230326T030000
TZOFFSETFROM:+0200
TZOFFSETTO:+0100
TZNAME:Europe/Berlin CET
END:STANDARD
BEGIN:STANDARD
DTSTART:20231029T020000
RDATE:20240331T030000
TZOFFSETFROM:+0200
TZOFFSETTO:+0100
TZNAME:Europe/Berlin CET
END:STANDARD
BEGIN:STANDARD
DTSTART:20241027T020000
RDATE:20250330T030000
TZOFFSETFROM:+0200
TZOFFSETTO:+0100
TZNAME:Europe/Berlin CET
END:STANDARD
BEGIN:STANDARD
DTSTART:20251026T020000
RDATE:20260329T030000
TZOFFSETFROM:+0200
TZOFFSETTO:+0100
TZNAME:Europe/Berlin CET
END:STANDARD
BEGIN:STANDARD
DTSTART:20261025T020000
RDATE:20270328T030000
TZOFFSETFROM:+0200
TZOFFSETTO:+0100
TZNAME:Europe/Berlin CET
END:STANDARD
BEGIN:STANDARD
DTSTART:20271031T020000
RDATE:20280326T030000
TZOFFSETFROM:+0200
TZOFFSETTO:+0100
TZNAME:Europe/Berlin CET
END:STANDARD
BEGIN:STANDARD
DTSTART:20281029T020000
RDATE:20290325T030000
TZOFFSETFROM:+0200
TZOFFSETTO:+0100
TZNAME:Europe/Berlin CET
END:STANDARD
BEGIN:STANDARD
DTSTART:20291028T020000
RDATE:20300331T030000
TZOFFSETFROM:+0200
TZOFFSETTO:+0100
TZNAME:Europe/Berlin CET
END:STANDARD
BEGIN:STANDARD
DTSTART:20301027T020000
RDATE:20310330T030000
TZOFFSETFROM:+0200
TZOFFSETTO:+0100
TZNAME:Europe/Berlin CET
END:STANDARD
BEGIN:DAYLIGHT
DTSTART:20200329T030000
RDATE:20201025T020000
TZOFFSETFROM:+0100
TZOFFSETTO:+0200
TZNAME:Europe/Berlin CEST
END:DAYLIGHT
BEGIN:DAYLIGHT
DTSTART:20210328T030000
RDATE:20211031T020000
TZOFFSETFROM:+0100
TZOFFSETTO:+0200
TZNAME:Europe/Berlin CEST
END:DAYLIGHT
BEGIN:DAYLIGHT
DTSTART:20220327T030000
RDATE:20221030T020000
TZOFFSETFROM:+0100
TZOFFSETTO:+0200
TZNAME:Europe/Berlin CEST
END:DAYLIGHT
BEGIN:DAYLIGHT
DTSTART:20230326T030000
RDATE:20231029T020000
TZOFFSETFROM:+0100
TZOFFSETTO:+0200
TZNAME:Europe/Berlin CEST
END:DAYLIGHT
BEGIN:DAYLIGHT
DTSTART:20240331T030000
RDATE:20241027T020000
TZOFFSETFROM:+0100
TZOFFSETTO:+0200
TZNAME:Europe/Berlin CEST
END:DAYLIGHT
BEGIN:DAYLIGHT
DTSTART:20250330T030000
RDATE:20251026T020000
TZOFFSETFROM:+0100
TZOFFSETTO:+0200
TZNAME:Europe/Berlin CEST
END:DAYLIGHT
BEGIN:DAYLIGHT
DTSTART:20260329T030000
RDATE:20261025T020000
TZOFFSETFROM:+0100
TZOFFSETTO:+0200
TZNAME:Europe/Berlin CEST
END:DAYLIGHT
BEGIN:DAYLIGHT
DTSTART:20270328T030000
RDATE:20271031T020000
TZOFFSETFROM:+0100
TZOFFSETTO:+0200
TZNAME:Europe/Berlin CEST
END:DAYLIGHT
BEGIN:DAYLIGHT
DTSTART:20280326T030000
RDATE:20281029T020000
TZOFFSETFROM:+0100
TZOFFSETTO:+0200
TZNAME:Europe/Berlin CEST
END:DAYLIGHT
BEGIN:DAYLIGHT
DTSTART:20290325T030000
RDATE:20291028T020000
TZOFFSETFROM:+0100
TZOFFSETTO:+0200
TZNAME:Europe/Berlin CEST
END:DAYLIGHT
BEGIN:DAYLIGHT
DTSTART:20300331T030000
RDATE:20301027T020000
TZOFFSETFROM:+0100
TZOFFSETTO:+0200
TZNAME:Europe/Berlin CEST
END:DAYLIGHT
END:VTIMEZONE
BEGIN:VEVENT
UID:535f80a0226cf09893aa609098d972cd
CATEGORIES:Fasching
CREATED:20210210T003716
SUMMARY:Bunter-Turner-Luki-Zoom
LOCATION:Zoom ID 817 8519 2702 (Code 2021)
DESCRIPTION:<div class="kvgmc6g5 cxmmr5t8 oygrvhab hcukyx3x c1et5uql">Am Samstag, den 1
 3.02.2021 findet ab 20 Uhr ein Bunter-Turner-Luki-Zoom statt.</div><div cla
 ss="o9v6fnle cxmmr5t8 oygrvhab hcukyx3x c1et5uql">Auf der Video-Konferenz-P
 lattform Zoom kann Jeder kostenlos am St. Wolfganger Online-Fasching 2021 t
 eilnehmen.</div><div class="o9v6fnle cxmmr5t8 oygrvhab hcukyx3x c1et5uql">E
 s werden kurze Sketche, lustige Lokalnachrichten, umgedichtete Lieder und S
 chätze aus unserem Bunter-Abend-Videoarchiv präsentiert. Ebenso darf natürl
 ich die Inthronisierung des Prinzenpaares Laura I. von der Hochriesalm und 
 Prinz Zeno I. vom Prinzenstadl, samt digitalen Gardemarsch und Walzer nicht
  fehlen.</div><div class="o9v6fnle cxmmr5t8 oygrvhab hcukyx3x c1et5uql">Mit
  dabei sind u.A.: The.Soundscape, Patrizia Müller, Unser Prinzenpaar, Klaus
  Brandlhuber, ModernArt, Anton Schwimmer, Christian Rott, Elke Rachl, …</di
 v><div class="o9v6fnle cxmmr5t8 oygrvhab hcukyx3x c1et5uql">Nach einer gute
 n Stunde übernimmt DJ C-Base (Sebastian Schäch) und liefert Partymusik aus 
 über 20 Jahren St. Wolfganger Dorffest frei Haus in die Wohnzimmer.</div><d
 iv class="o9v6fnle cxmmr5t8 oygrvhab hcukyx3x c1et5uql">Damit auch hier kei
 ne Langeweile aufkommt, werden Musikwünsche erfüllt, man kann an Umfragen u
 nd Gewinnspielen teilnehmen und es werden Fotos aus dem legendären St. Wolf
 ganger Nachtleben vergangener Tage gezeigt.</div><div class="o9v6fnle cxmmr
 5t8 oygrvhab hcukyx3x c1et5uql">Auch hier ist die Teilnahme kostenlos.</div
 ><div class="o9v6fnle cxmmr5t8 oygrvhab hcukyx3x c1et5uql">Der Zugangslink 
 wird hier und unter&nbsp;<a href="https://l.facebook.com/l.php?u=http%3A%2F
 %2Fwww.tsv-st.wolfgang.de%2F%3Ffbclid%3DIwAR1_buvggiYcsJ6_XKsS_eu9QmFrHhRbS
 Z8XYotOEvOIhm6RemQdKgGhRYM&amp;h=AT12L--8KHVP4yWMRwwt7nDFJFaL9AhO9KyoQOpcl4
 beYmxP_iQWPfJVfT8qaU_J17u6cd2doK9-6wtzPF65oJkP9WTrTmY2BESldzeekkfIbWn_JmNRU
 GgouOwhgYLZQ-43RhxYJytLCR_XCzAg&amp;__tn__=q&amp;c[0]=AT0k1N1xKdad_RvdQqKl5
 6VUxkT7k3mQ5Vis6usiiLZMq1IeQ34UGvEODitZ39OUvzDJ-iLdILGRc0yhwBd-uDHdq40qE3yB
 A14xGZVu_AuRFBYtMJh58KoHG4XL_MRUP_vZyD76VvvXLZcGPssIYtc7N0t-l61KAaGaJUHnKcD
 9uzEG" target="_blank" rel="nofollow noopener" class="oajrlxb2 g5ia77u1 qu0
 x051f esr5mh6w e9989ue4 r7d6kgcz rq0escxv nhd2j8a9 nc684nl6 p7hjln8o kvgmc6
 g5 cxmmr5t8 oygrvhab hcukyx3x jb3vyjys rz4wbd8a qt6c0cv9 a8nywdso i1ao9s8h 
 esuyzwwr f1sip0of lzcic4wl py34i1dx gpro0wi8" tabindex="0" role="link">www.
 tsv-st.wolfgang.de</a>&nbsp;hinterlegt.</div><div class="o9v6fnle cxmmr5t8 
 oygrvhab hcukyx3x c1et5uql">Zoom ID 817 8519 2702 (Code 2021).</div><div cl
 ass="o9v6fnle cxmmr5t8 oygrvhab hcukyx3x c1et5uql">Damit der Faschingsgenus
 s auf dem heimischen Sofa perfekt wird, bietet der TSV St. Wolfgang ebenfal
 ls am Samstag, den 13.02.2021 einen Lieferdienst für Bargetränke. Den sogen
 annten Rüscherl-Express. So können sich die St. Wolfganger auf Bestellung d
 ie Zutaten für einen Longdrink oder Cocktail vor die Haustür liefern lassen
 . Die Bezahlung erfolgt kostenlos via Banküberweisung. Bestellung bis 12 Uh
 r. Lieferung erfolgt zwischen 18 und 20 Uhr. Bei größeren Bestellungen wird
  auch in die angrenzenden Gemeindegebiete geliefert. Die Auswahl, sowie die
  Bestellmöglichkeiten sind ebenfalls online unter&nbsp;<a href="https://l.f
 acebook.com/l.php?u=http%3A%2F%2Fwww.tsv-st-wolfgang.de%2F%3Ffbclid%3DIwAR1
 _vRd6al0033LwQrjXlwaVUE2ggdIMGBEv_vAzfzgCk_FvzzZn0W_kWSQ&amp;h=AT1ZbcOP4Fb9
 xvSIZ0ghac4HPlqLnYut-EchJkd0IoOFN-YJPVfv8ndg5di2XYaGRLHXt-38haM2KwiYixdC1mw
 iM16SO7CeAJ6ErbQ4j_RCwc0Yd-b-cFBM1aOP-5s3C9WZDyU_voV_NQUseC_a&amp;__tn__=q&
 amp;c[0]=AT0k1N1xKdad_RvdQqKl56VUxkT7k3mQ5Vis6usiiLZMq1IeQ34UGvEODitZ39OUvz
 DJ-iLdILGRc0yhwBd-uDHdq40qE3yBA14xGZVu_AuRFBYtMJh58KoHG4XL_MRUP_vZyD76VvvXL
 ZcGPssIYtc7N0t-l61KAaGaJUHnKcD9uzEG" target="_blank" rel="nofollow noopener
 " class="oajrlxb2 g5ia77u1 qu0x051f esr5mh6w e9989ue4 r7d6kgcz rq0escxv nhd
 2j8a9 nc684nl6 p7hjln8o kvgmc6g5 cxmmr5t8 oygrvhab hcukyx3x jb3vyjys rz4wbd
 8a qt6c0cv9 a8nywdso i1ao9s8h esuyzwwr f1sip0of lzcic4wl py34i1dx gpro0wi8"
  tabindex="0" role="link">www.tsv-st-wolfgang.de</a>&nbsp;abrufbar.</div><d
 iv class="o9v6fnle cxmmr5t8 oygrvhab hcukyx3x c1et5uql">Auch wenn das Coron
 a bedingte Ersatzprogramm den bekannten St. Wolfganger Fasching nicht erset
 zen kann, hoffen TSV Vorstand Rudi Brunnhuber, Abteilungsleiter Fasching An
 ton Schwimmer, sowie Prinzessin Laura und Prinz Zeno auf eine positive Reso
 nanz und Teilnahme.</div><div class="o9v6fnle cxmmr5t8 oygrvhab hcukyx3x c1
 et5uql">St. Wolfgang Helau und „Bleibt‘s Gsund“</div>
DTSTAMP:20260424T050225
DTSTART;TZID=Europe/Berlin:20210213T200000
SEQUENCE:0
TRANSP:OPAQUE
END:VEVENT
END:VCALENDAR